BEGIN:VCALENDAR
VERSION:2.0
PRODID:-//Association for Service Management International//www.afsmi.de//DE
CALSCALE:GREGORIAN
BEGIN:VEVENT
LOCATION:Stuttgart
DESCRIPTION:Service Techniker und Service Experten haben ständig Kunden Kontakt\, lösen kritische Probleme beim Kunden und werden oft als „Trusted Advisor“ gesehen.
Wie kann der Service Techniker diese „Trusted Advisor“ Position behalten und zugleich den Kundennutzen und den Umsatz für das eigene Unternehmen ankurbeln?
DTSTART:20180419T183000
DTEND:20180419T220000
SUMMARY:03. Regionaltreffen Stuttgart: "Umsatz-Wachstum durch Mitarbeiter im Service"
URL;VALUE=URI:https://www.afsmi.de/veranstaltung/03-regionales-meetup-umsatz-wachstum-durch-mitarbeiter-im-service.html
DTSTAMP:20260422T141007
UID:69e8ba9f0e00c
END:VEVENT
END:VCALENDAR