BEGIN:VCALENDAR
VERSION:2.0
PRODID:-//Association for Service Management International//www.afsmi.de//DE
CALSCALE:GREGORIAN
BEGIN:VEVENT
LOCATION:Online Zoom-Meeting &#40\;English&#41\;
DESCRIPTION:Collaborating with peers can fast track projects\, help generate new ideas and increase participants’ confidence levels improving the chances of success. We show how in a short case study about developing a Customer Portal at the SLN
DTSTART:20210708T163000
DTEND:20210708T174500
SUMMARY:1. International Roundtable: Short case study about developing a Customer Portal
URL;VALUE=URI:https://www.afsmi.de/veranstaltung/1-international-roundtable-customer-portal.html
DTSTAMP:20260424T105325
UID:69eb2f850899a
END:VEVENT
END:VCALENDAR