BEGIN:VCALENDAR
VERSION:2.0
PRODID:-//Association for Service Management International//www.afsmi.de//DE
CALSCALE:GREGORIAN
BEGIN:VEVENT
LOCATION:Augsburg
DESCRIPTION:Das 114. Chaptermeeting wird bei der KUKA AG in Augsburg stattfinden. Das Schwerpunkthema ist: &#34\;Digitale Vernetzung als Servicechance: Wie Hersteller und Kunden gemeinsam profitieren&#34\;
DTSTART:20251014T153000
DTEND:20251015T170000
SUMMARY:114. Chapter Meeting bei KUKA
URL;VALUE=URI:https://www.afsmi.de/veranstaltung/114-113-115-114-chapter-meeting-bei-kuka.html
DTSTAMP:20260421T104225
UID:69e7387164d27
END:VEVENT
END:VCALENDAR