BEGIN:VCALENDAR
VERSION:2.0
PRODID:-//Association for Service Management International//www.afsmi.de//DE
CALSCALE:GREGORIAN
BEGIN:VEVENT
LOCATION:Budapest / Ungarn
DESCRIPTION:Die Service Journey Roadshow ist ein Format unseres amerikanischen Partners ServiceCouncil.
AFSMI Mitglieder haben die Möglichkeit\, kostenfrei an den Veranstaltungen teilzunehmen.
Die vierte Veranstaltung in 2026 wird bei UNISYS in Budapest stattfinden. Die Veranstaltungssprache ist Englisch.
DTSTART:20261013T000000
DTEND:20261013T235959
SUMMARY:4. Service Journey Day: Partnerveranstaltung mit ServiceCouncil
URL;VALUE=URI:https://www.afsmi.de/veranstaltung/4-service-journey-day-partnerveranstaltung-mit-servicecouncil.html
DTSTAMP:20260423T100742
UID:69e9d34ea8ec1
END:VEVENT
END:VCALENDAR