BEGIN:VCALENDAR
VERSION:2.0
PRODID:-//Association for Service Management International//www.afsmi.de//DE
CALSCALE:GREGORIAN
BEGIN:VEVENT
LOCATION:Josephs - Die Service-Manufaktur - Nürnberg
DESCRIPTION:
DTSTART:20161102T130000
DTEND:20161102T180000
SUMMARY:92a. Workshop: Methoden für das High-Tech Service und Solution Business
URL;VALUE=URI:https://www.afsmi.de/veranstaltung/92a-workshop-methoden-f%C3%BCr-das-high-tech-service-und-solution-business.html
DTSTAMP:20260421T122230
UID:69e74fe657af8
END:VEVENT
END:VCALENDAR